Workbook

Sheet 調査票
B3: 松山市下水道事業（北条処理区）における水の官民連携に関するアンケート調査票 | O3: 〇
B5: このアンケートは、「水の官民連携」（以降、ウォーターPPPとする）（レベル3.5）について、民間事業者皆さまの参加意欲や想定スキームに対するご意見等を把握し、本市のウォーターPPP（レベル3.5）のスキーム検討に活用することを目的としています。 別紙のアンケート調査実施要領をご確認の上、アンケートにご協力をいただきますよう、よろしくお願いいたします。
K10: 記入欄
B11: 【アンケート記入担当者及び連絡先】
B12: 貴社名
B13: ご住所
B14: ご担当者名
B15: 部署名
B16: ご連絡先 | C16: TEL
C17: E-Mail
B19: １．貴社の業種・業務分野、官民連携（PPP/PFI）事業への参加実績について
B20: （日本国内における実績のみについて、ご回答ください）
B23: 1-1.貴社の業種・業務分野を選択してください。（複数回答可、該当するものに〇）
C24: 維持管理 | F24: 処理場･ポンプ場
F25: 管路施設（清掃・修繕等）
F26: 管路施設（点検・調査）
C27: 工事 | F27: 土木･建築施設
F28: 機械設備
F29: 電気設備
F30: 管路施設
C31: コンサルタント | F31: 設計
F32: 計画策定
C33: その他 | F33: （ | L33: ）
B35: 1-2.貴社が過去に参加したことのある官民連携事業方式についてご回答ください。 （複数回答可、該当するものに〇）
C36: 処理場・ポンプ場 包括的民間委託Lv1（運転・保守）
C37: 処理場・ポンプ場 包括的民間委託Lv2（運転・保守・調達）
C38: 処理場・ポンプ場 包括的民間委託Lv3（運転・保守・調達・修繕）
C39: 処理場・ポンプ場 管理・更新一体マネジメント方式Lv3.5
C40: 管路 個別委託（点検・調査・清掃・修繕等のいずれか）
C41: 管路 包括的民間委託
C42: 管路 管理・更新一体マネジメント方式Lv3.5
C43: DB,DBO
C44: PFI（BTO等従来方式）
C45: PFI（コンセッション方式）
C46: 参加実績なし → 設問2-1へ
B48: 1-3.貴社が参加した1-2の業務について、官民連携事業の参加時の体制（役割）についてご回答ください。 （複数回答可、該当するものに〇） ※「参加実績なし」の場合は回答不要です。
C49: 単独で参加
C50: グループの代表企業として参加
C51: グループの構成企業として参加
C52: グループの協力企業・下請け企業として参加
...

Sheet 集計欄
B2: 貴社名 | C2: =調査票!D12 -> 0
B3: ご住所 | C3: =調査票!D13 -> 0
B4: ご担当者名 | C4: =調査票!D14 -> 0
B5: 部署名 | C5: =調査票!D15 -> 0
B6: TEL | C6: =調査票!D16 -> 0
B7: E-Mail | C7: =調査票!D17 -> 0
A9: 1-1
B10: =調査票!F24 -> 処理場･ポンプ場 | C10: =調査票!B24 -> 0
B11: =調査票!F25 -> 管路施設（清掃・修繕等） | C11: =調査票!B25 -> 0
B12: =調査票!F26 -> 管路施設（点検・調査） | C12: =調査票!B26 -> 0
B13: =調査票!F27 -> 土木･建築施設 | C13: =調査票!B27 -> 0
B14: =調査票!F28 -> 機械設備 | C14: =調査票!B28 -> 0
B15: =調査票!F29 -> 電気設備 | C15: =調査票!B29 -> 0
B16: =調査票!F30 -> 管路施設 | C16: =調査票!B30 -> 0
B17: =調査票!F31 -> 設計 | C17: =調査票!B31 -> 0
B18: =調査票!F32 -> 計画策定 | C18: =調査票!B32 -> 0
B19: =調査票!C33 -> その他 | C19: =調査票!G33 -> 0
A20: 1-2
B21: =調査票!C36 -> 処理場・ポンプ場 包括的民間委託Lv1（運転・保守） | C21: =調査票!B36 -> 0
B22: =調査票!C37 -> 処理場・ポンプ場 包括的民間委託Lv2（運転・保守・調達） | C22: =調査票!B37 -> 0
B23: =調査票!C38 -> 処理場・ポンプ場 包括的民間委託Lv3（運転・保守・調達・修繕） | C23: =調査票!B38 -> 0
B24: =調査票!C39 -> 処理場・ポンプ場 管理・更新一体マネジメント方式Lv3.5 | C24: =調査票!B39 -> 0
B25: =調査票!C40 -> 管路 個別委託（点検・調査・清掃・修繕等のいずれか） | C25: =調査票!B40 -> 0
B26: =調査票!C41 -> 管路 包括的民間委託 | C26: =調査票!B41 -> 0
B27: =調査票!C42 -> 管路 管理・更新一体マネジメント方式Lv3.5 | C27: =調査票!B42 -> 0
B28: =調査票!C43 -> DB,DBO | C28: =調査票!B43 -> 0
B29: =調査票!C44 -> PFI（BTO等従来方式） | C29: =調査票!B44 -> 0
B30: =調査票!C45 -> PFI（コンセッション方式） | C30: =調査票!B45 -> 0
B31: =調査票!C46 -> 参加実績なし → 設問2-1へ | C31: =調査票!B46 -> 0
A32: 1-3
B33: =調査票!C49 -> 単独で参加 | C33: =調査票!B49 -> 0
B34: =調査票!C50 -> グループの代表企業として参加 | C34: =調査票!B50 -> 0
B35: =調査票!C51 -> グループの構成企業として参加 | C35: =調査票!B51 -> 0
B36: =調査票!C52 -> グループの協力企業・下請け企業として参加 | C36: =調査票!B52 -> 0
B37: =調査票!C53 -> その他 | C37: =調査票!E53 -> 0
A38: 1-4
B39: =調査票!C57 -> 松山市内での業務実績がある | C39: =調査票!B57 -> 0
B40: =調査票!C58 -> 愛媛県内での業務実績がある | C40: =調査票!B58 -> 0
B41: =調査票!C59 -> 愛媛県外での業務実績がある | C41: =調査票!B59 -> 0
A42: 2-1
...
