Workbook

Sheet 調査票
B3: 松山市下水道事業（北条処理区）における水の官民連携に関するアンケート調査票 | O3: 〇
B5: このアンケートは、「水の官民連携」（以降、ウォーターPPPとする）（レベル3.5）について、民間事業者皆さまの参加意欲や想定スキームに対するご意見等を把握し、本市のウォーターPPP（レベル3.5）のスキーム検討に活用することを目的としています。 別紙のアンケート調査実施要領をご確認の上、アンケートにご協力をいただきますよう、よろしくお願いいたします。
K10: 記入欄
B11: 【アンケート記入担当者及び連絡先】
B12: 貴社名
B13: ご住所
B14: ご担当者名
B15: 部署名
B16: ご連絡先 | C16: TEL
C17: E-Mail
B19: １．貴社の業種・業務分野、官民連携（PPP/PFI）事業への参加実績について
B20: （日本国内における実績のみについて、ご回答ください）
B23: 1-1.貴社の業種・業務分野を選択してください。（複数回答可、該当するものに〇）
C24: 維持管理 | F24: 処理場･ポンプ場
F25: 管路施設（清掃・修繕等）
F26: 管路施設（点検・調査）
C27: 工事 | F27: 土木･建築施設
F28: 機械設備
F29: 電気設備
F30: 管路施設
C31: コンサルタント | F31: 設計
F32: 計画策定
C33: その他 | F33: （ | L33: ）
B35: 1-2.貴社が過去に参加したことのある官民連携事業方式についてご回答ください。 （複数回答可、該当するものに〇）
C36: 処理場・ポンプ場 包括的民間委託Lv1（運転・保守）
C37: 処理場・ポンプ場 包括的民間委託Lv2（運転・保守・調達）
C38: 処理場・ポンプ場 包括的民間委託Lv3（運転・保守・調達・修繕）
C39: 処理場・ポンプ場 管理・更新一体マネジメント方式Lv3.5
C40: 管路 個別委託（点検・調査・清掃・修繕等のいずれか）
C41: 管路 包括的民間委託
C42: 管路 管理・更新一体マネジメント方式Lv3.5
C43: DB,DBO
C44: PFI（BTO等従来方式）
C45: PFI（コンセッション方式）
C46: 参加実績なし → 設問2-1へ
B48: 1-3.貴社が参加した1-2の業務について、官民連携事業の参加時の体制（役割）についてご回答ください。 （複数回答可、該当するものに〇） ※「参加実績なし」の場合は回答不要です。
C49: 単独で参加
C50: グループの代表企業として参加
C51: グループの構成企業として参加
C52: グループの協力企業・下請け企業として参加
C53: その他 | D53: （ | L53: ）
B56: 1-4.貴社が参加した1-2の業務について、松山市内、愛媛県内での業務実績の有無についてご回答ください。（複数回答可、該当するものに〇）
C57: 松山市内での業務実績がある
C58: 愛媛県内での業務実績がある
C59: 愛媛県外での業務実績がある
B61: ２．貴社のウォーターPPPに対する関心について
B63: 2-1.貴社のウォーターPPPに対する理解度についてご回答ください。（該当するものに〇）
C64: 内容を理解している
C65: 聞いたことはあるが内容は把握していない
C66: まったく聞いたことがない
B68: 2-2.貴社のウォーターPPPに対する関心度合いについてご回答ください。（該当するものに〇）
C69: 大いに関心がある
C70: 関心がある
C71: あまり関心がない
C72: 関心がない
B75: 2-3.本市のウォーターPPPに対する関心度合いについてご回答ください。（該当するものに〇）
C76: 大いに関心がある
C77: 関心がある
C78: あまり関心がない
C79: 関心がない
B81: 2-4.上記設問2-3で回答いただいた関心度合いの理由についてご回答ください。また、「あまり関心がない」「関心がない」と回答いただいた場合において、本市での事業への関心度合いを高めるための要件･要望等がありましたらご回答ください。
B85: ３．本市下水道事業へのウォーターPPP（レベル3.5）の導入について
B86: （※本市がウォーターPPPを導入することを保証するものではありません。）
B87: 3-1.本市がウォーターPPPを導入する場合、参加または参加を検討したいと思いますか。 （該当するものに〇）
C88: 参加または参加を検討したいと思う
C89: 参加または参加を検討したいとは思わない → 設問4-1へ
C90: 現時点では不明 → 設問4-1へ
C91: その他 | D91: （ | L91: ）
B94: 3-2.設問3-1において、「参加を検討したいと思う」と回答の場合、貴社が対応可能な業務をご回答ください。（複数回答可、該当するものに〇）
B95: 業務全般 | D95: 統括管理 | F95: 統括管理業務
B96: 処理場・ポンプ場 | D96: 維持管理 | F96: 運転操作・保守点検
F97: ユーティリティの調達・管理
F98: 一定金額以下の修繕
F99: 修繕計画の策定、実施
D100: 計画・設計・工事 | F100: 更新計画
F101: CM（コンストラクション・マネジメント）
F102: 詳細設計
F103: 改築工事（機械）
F104: 改築工事（電気）
B105: 管路 | D105: 維持管理 | F105: 住民対応業務 | H105: 住民対応
H106: 事故対応（清掃、修繕）
F107: 計画的業務 | H107: 巡視・点検・調査
H108: 清掃
H109: 修繕
D110: 計画・設計・工事 | F110: 更新計画
F111: CM（コンストラクション・マネジメント）
F112: 詳細設計
F113: 改築工事
B115: 3-3.設問3-1において、「参加を検討したいと思う」と回答の場合、貴社が希望するウォーターPPPの対象業務をご回答ください。（複数回答可、該当するものに〇）
B116: 業務全般 | D116: 統括管理業務 | F116: 統括管理業務
B117: 処理場・ポンプ場 | D117: 維持管理 | F117: 運転操作・保守点検
F118: ユーティリティの調達・管理
F119: 一定金額以下の修繕
F120: 修繕計画の策定、実施
D121: 計画・設計・工事 | F121: 更新計画
F122: CM（コンストラクション・マネジメント）
F123: 詳細設計
F124: 改築工事（機械）
F125: 改築工事（電気）
B126: 管路 | D126: 管理保全業務 | F126: 住民対応業務 | H126: 住民対応
...

Sheet 集計欄
B2: 貴社名 | C2: =調査票!D12 -> 0
B3: ご住所 | C3: =調査票!D13 -> 0
B4: ご担当者名 | C4: =調査票!D14 -> 0
B5: 部署名 | C5: =調査票!D15 -> 0
B6: TEL | C6: =調査票!D16 -> 0
B7: E-Mail | C7: =調査票!D17 -> 0
A9: 1-1
B10: =調査票!F24 -> 処理場･ポンプ場 | C10: =調査票!B24 -> 0
B11: =調査票!F25 -> 管路施設（清掃・修繕等） | C11: =調査票!B25 -> 0
B12: =調査票!F26 -> 管路施設（点検・調査） | C12: =調査票!B26 -> 0
B13: =調査票!F27 -> 土木･建築施設 | C13: =調査票!B27 -> 0
B14: =調査票!F28 -> 機械設備 | C14: =調査票!B28 -> 0
B15: =調査票!F29 -> 電気設備 | C15: =調査票!B29 -> 0
B16: =調査票!F30 -> 管路施設 | C16: =調査票!B30 -> 0
B17: =調査票!F31 -> 設計 | C17: =調査票!B31 -> 0
B18: =調査票!F32 -> 計画策定 | C18: =調査票!B32 -> 0
B19: =調査票!C33 -> その他 | C19: =調査票!G33 -> 0
A20: 1-2
B21: =調査票!C36 -> 処理場・ポンプ場 包括的民間委託Lv1（運転・保守） | C21: =調査票!B36 -> 0
B22: =調査票!C37 -> 処理場・ポンプ場 包括的民間委託Lv2（運転・保守・調達） | C22: =調査票!B37 -> 0
B23: =調査票!C38 -> 処理場・ポンプ場 包括的民間委託Lv3（運転・保守・調達・修繕） | C23: =調査票!B38 -> 0
B24: =調査票!C39 -> 処理場・ポンプ場 管理・更新一体マネジメント方式Lv3.5 | C24: =調査票!B39 -> 0
B25: =調査票!C40 -> 管路 個別委託（点検・調査・清掃・修繕等のいずれか） | C25: =調査票!B40 -> 0
B26: =調査票!C41 -> 管路 包括的民間委託 | C26: =調査票!B41 -> 0
B27: =調査票!C42 -> 管路 管理・更新一体マネジメント方式Lv3.5 | C27: =調査票!B42 -> 0
B28: =調査票!C43 -> DB,DBO | C28: =調査票!B43 -> 0
B29: =調査票!C44 -> PFI（BTO等従来方式） | C29: =調査票!B44 -> 0
B30: =調査票!C45 -> PFI（コンセッション方式） | C30: =調査票!B45 -> 0
B31: =調査票!C46 -> 参加実績なし → 設問2-1へ | C31: =調査票!B46 -> 0
A32: 1-3
B33: =調査票!C49 -> 単独で参加 | C33: =調査票!B49 -> 0
B34: =調査票!C50 -> グループの代表企業として参加 | C34: =調査票!B50 -> 0
B35: =調査票!C51 -> グループの構成企業として参加 | C35: =調査票!B51 -> 0
B36: =調査票!C52 -> グループの協力企業・下請け企業として参加 | C36: =調査票!B52 -> 0
B37: =調査票!C53 -> その他 | C37: =調査票!E53 -> 0
A38: 1-4
B39: =調査票!C57 -> 松山市内での業務実績がある | C39: =調査票!B57 -> 0
B40: =調査票!C58 -> 愛媛県内での業務実績がある | C40: =調査票!B58 -> 0
B41: =調査票!C59 -> 愛媛県外での業務実績がある | C41: =調査票!B59 -> 0
A42: 2-1
B43: =調査票!C64 -> 内容を理解している | C43: =調査票!B64 -> 0
B44: =調査票!C65 -> 聞いたことはあるが内容は把握していない | C44: =調査票!B65 -> 0
B45: =調査票!C66 -> まったく聞いたことがない | C45: =調査票!B66 -> 0
A46: 2-2
B47: =調査票!C69 -> 大いに関心がある | C47: =調査票!B69 -> 0
B48: =調査票!C70 -> 関心がある | C48: =調査票!B70 -> 0
B49: =調査票!C71 -> あまり関心がない | C49: =調査票!B71 -> 0
B50: =調査票!C72 -> 関心がない | C50: =調査票!B72 -> 0
A51: 2-3
B52: =調査票!C76 -> 大いに関心がある | C52: =調査票!B76 -> 0
B53: =調査票!C77 -> 関心がある | C53: =調査票!B77 -> 0
B54: =調査票!C78 -> あまり関心がない | C54: =調査票!B78 -> 0
B55: =調査票!C79 -> 関心がない | C55: =調査票!B79 -> 0
A56: 2-4
B57: 関心度合いの理由 | C57: =調査票!B82 -> 0
A58: 3-1
B59: =調査票!C88 -> 参加または参加を検討したいと思う | C59: =調査票!B88 -> 0
B60: =調査票!C89 -> 参加または参加を検討したいとは思わない → 設問4-1へ | C60: =調査票!B89 -> 0
B61: =調査票!C90 -> 現時点では不明 → 設問4-1へ | C61: =調査票!B90 -> 0
B62: =調査票!C91 -> その他 | C62: =調査票!E91 -> 0
A63: 3-2
B64: =調査票!F95 -> 統括管理業務 | C64: =調査票!L95 -> 0
B65: =調査票!F96 -> 運転操作・保守点検 | C65: =調査票!L96 -> 0
B66: =調査票!F97 -> ユーティリティの調達・管理 | C66: =調査票!L97 -> 0
B67: =調査票!F98 -> 一定金額以下の修繕 | C67: =調査票!L98 -> 0
B68: =調査票!F99 -> 修繕計画の策定、実施 | C68: =調査票!L99 -> 0
B69: =調査票!F100 -> 更新計画 | C69: =調査票!L100 -> 0
B70: =調査票!F101 -> CM（コンストラクション・マネジメント） | C70: =調査票!L101 -> 0
B71: =調査票!F102 -> 詳細設計 | C71: =調査票!L102 -> 0
B72: =調査票!F103 -> 改築工事（機械） | C72: =調査票!L103 -> 0
B73: =調査票!F104 -> 改築工事（電気） | C73: =調査票!L104 -> 0
B74: =調査票!H105 -> 住民対応 | C74: =調査票!L105 -> 0
B75: =調査票!H106 -> 事故対応（清掃、修繕） | C75: =調査票!L106 -> 0
B76: =調査票!H107 -> 巡視・点検・調査 | C76: =調査票!L107 -> 0
B77: =調査票!H108 -> 清掃 | C77: =調査票!L108 -> 0
B78: =調査票!H109 -> 修繕 | C78: =調査票!L109 -> 0
B79: =調査票!F110 -> 更新計画 | C79: =調査票!L110 -> 0
B80: =調査票!F111 -> CM（コンストラクション・マネジメント） | C80: =調査票!L111 -> 0
B81: =調査票!F112 -> 詳細設計 | C81: =調査票!L112 -> 0
B82: =調査票!F113 -> 改築工事 | C82: =調査票!L113 -> 0
A83: 3-3
B84: =調査票!F95 -> 統括管理業務 | C84: =調査票!L116 -> 0
B85: =調査票!F97 -> ユーティリティの調達・管理 | C85: =調査票!L117 -> 0
B86: =調査票!F98 -> 一定金額以下の修繕 | C86: =調査票!L118 -> 0
B87: =調査票!F99 -> 修繕計画の策定、実施 | C87: =調査票!L119 -> 0
B88: =調査票!F100 -> 更新計画 | C88: =調査票!L120 -> 0
B89: =調査票!F101 -> CM（コンストラクション・マネジメント） | C89: =調査票!L121 -> 0
B90: =調査票!F102 -> 詳細設計 | C90: =調査票!L122 -> 0
B91: =調査票!F124 -> 改築工事（機械） | C91: =調査票!L123 -> 0
B92: =調査票!F125 -> 改築工事（電気） | C92: =調査票!L124 -> 0
B93: =調査票!H126 -> 住民対応 | C93: =調査票!L125 -> 0
B94: =調査票!H127 -> 事故対応（清掃、修繕） | C94: =調査票!L126 -> 0
B95: =調査票!H128 -> 巡視・点検・調査 | C95: =調査票!L127 -> 0
B96: =調査票!H129 -> 清掃 | C96: =調査票!L128 -> 0
B97: =調査票!H130 -> 修繕 | C97: =調査票!L129 -> 0
B98: =調査票!F131 -> 更新計画 | C98: =調査票!L130 -> 0
B99: =調査票!F132 -> CM（コンストラクション・マネジメント） | C99: =調査票!L131 -> 0
B100: =調査票!F133 -> 詳細設計 | C100: =調査票!L132 -> 0
B101: =調査票!F134 -> 改築工事（管路） | C101: =調査票!L133 -> 0
A102: 3-4
...
